BEGIN:VCALENDAR
VERSION:2.0
PRODID:-//Shenandoah Valley Discovery Museum - ECPv6.15.20//NONSGML v1.0//EN
CALSCALE:GREGORIAN
METHOD:PUBLISH
X-ORIGINAL-URL:https://discoverymuseum.net
X-WR-CALDESC:Events for Shenandoah Valley Discovery Museum
REFRESH-INTERVAL;VALUE=DURATION:PT1H
X-Robots-Tag:noindex
X-PUBLISHED-TTL:PT1H
BEGIN:VTIMEZONE
TZID:UTC
BEGIN:STANDARD
TZOFFSETFROM:+0000
TZOFFSETTO:+0000
TZNAME:UTC
DTSTART:20250101T000000
END:STANDARD
END:VTIMEZONE
BEGIN:VEVENT
DTSTART;TZID=UTC:20260601T090000
DTEND;TZID=UTC:20260810T160000
DTSTAMP:20260423T104622
CREATED:20260301T145923Z
LAST-MODIFIED:20260301T145923Z
UID:54196-1780304400-1786377600@discoverymuseum.net
SUMMARY:All PreK - Kinder Camps
DESCRIPTION:
URL:https://discoverymuseum.net/event/all-prek-kinder-camps/
CATEGORIES:Summer Camps for PreK(4yrs)-K
ATTACH;FMTTYPE=image/png:https://discoverymuseum.net/wp-content/uploads/2026/03/PreK-Kinder-Summer-Camps.png
END:VEVENT
BEGIN:VEVENT
DTSTART;TZID=UTC:20260803T090000
DTEND;TZID=UTC:20260807T120000
DTSTAMP:20260423T104622
CREATED:20260228T233025Z
LAST-MODIFIED:20260306T194724Z
UID:54063-1785747600-1786104000@discoverymuseum.net
SUMMARY:Dino\, Dig and Play Camp\, PreK-Kinder
DESCRIPTION:Stomp into prehistoric fun! Campers will dig for fossils\, create dinosaur crafts\, and explore the exciting world of dinosaurs through hands-on discovery and imaginative play.
URL:https://discoverymuseum.net/event/dino-dig-and-play-camp/
CATEGORIES:Summer Camps for PreK(4yrs)-K
ATTACH;FMTTYPE=image/png:https://discoverymuseum.net/wp-content/uploads/2026/02/Dino-Dig-Play.png
END:VEVENT
BEGIN:VEVENT
DTSTART;TZID=UTC:20260803T120000
DTEND;TZID=UTC:20260807T130000
DTSTAMP:20260423T104622
CREATED:20260228T234538Z
LAST-MODIFIED:20260301T154248Z
UID:54079-1785758400-1786107600@discoverymuseum.net
SUMMARY:Add A Lunch Hour
DESCRIPTION:1 hour lunch and recess period between camps. \nThis is an Add on to camp registrations and cannot be purchased solo. \nCampers must provide their own lunch. \nWe are a nut free establishment!
URL:https://discoverymuseum.net/event/add-a-lunch-hour-5/
CATEGORIES:Summer Camps for PreK(4yrs)-K
ATTACH;FMTTYPE=image/png:https://discoverymuseum.net/wp-content/uploads/2026/02/PreK-Kinder-Camp-Website-Graphics.png
END:VEVENT
BEGIN:VEVENT
DTSTART;TZID=UTC:20260803T130000
DTEND;TZID=UTC:20260807T160000
DTSTAMP:20260423T104622
CREATED:20260228T233155Z
LAST-MODIFIED:20260306T194735Z
UID:54066-1785762000-1786118400@discoverymuseum.net
SUMMARY:Full STEAM Ahead!\, PreK-Kinder
DESCRIPTION:Get ready for a week of exploring science\, technology\, engineering\, art\, and math! Campers will build\, test\, create\, and experiment through exciting hands-on challenges designed to spark curiosity and creativity.
URL:https://discoverymuseum.net/event/full-steam-ahead/
CATEGORIES:Summer Camps for PreK(4yrs)-K
ATTACH;FMTTYPE=image/png:https://discoverymuseum.net/wp-content/uploads/2026/02/Full-STEAM-Ahead.png
END:VEVENT
END:VCALENDAR