BEGIN:VCALENDAR
VERSION:2.0
PRODID:-//Shenandoah Valley Discovery Museum - ECPv6.15.20//NONSGML v1.0//EN
CALSCALE:GREGORIAN
METHOD:PUBLISH
X-WR-CALNAME:Shenandoah Valley Discovery Museum
X-ORIGINAL-URL:https://discoverymuseum.net
X-WR-CALDESC:Events for Shenandoah Valley Discovery Museum
REFRESH-INTERVAL;VALUE=DURATION:PT1H
X-Robots-Tag:noindex
X-PUBLISHED-TTL:PT1H
BEGIN:VTIMEZONE
TZID:UTC
BEGIN:STANDARD
TZOFFSETFROM:+0000
TZOFFSETTO:+0000
TZNAME:UTC
DTSTART:20250101T000000
END:STANDARD
END:VTIMEZONE
BEGIN:VEVENT
DTSTART;TZID=UTC:20260601T090000
DTEND;TZID=UTC:20260810T160000
DTSTAMP:20260421T143240
CREATED:20260301T145923Z
LAST-MODIFIED:20260301T145923Z
UID:54196-1780304400-1786377600@discoverymuseum.net
SUMMARY:All PreK - Kinder Camps
DESCRIPTION:
URL:https://discoverymuseum.net/event/all-prek-kinder-camps/
CATEGORIES:Summer Camps for PreK(4yrs)-K
ATTACH;FMTTYPE=image/png:https://discoverymuseum.net/wp-content/uploads/2026/03/PreK-Kinder-Summer-Camps.png
END:VEVENT
BEGIN:VEVENT
DTSTART;TZID=UTC:20260713T090000
DTEND;TZID=UTC:20260717T120000
DTSTAMP:20260421T143240
CREATED:20260228T232202Z
LAST-MODIFIED:20260306T194627Z
UID:54048-1783933200-1784289600@discoverymuseum.net
SUMMARY:Under the Sea Adventure Camp\, PreK-Kinder
DESCRIPTION:Dive into an ocean of discovery! Campers will explore sea creatures\, ocean habitats\, and underwater adventures through crafts\, sensory activities\, and hands-on exploration.
URL:https://discoverymuseum.net/event/under-the-sea-adventure-camp/
CATEGORIES:Summer Camps for PreK(4yrs)-K
ATTACH;FMTTYPE=image/png:https://discoverymuseum.net/wp-content/uploads/2026/02/Under-the-Sea-Adventures.png
END:VEVENT
BEGIN:VEVENT
DTSTART;TZID=UTC:20260713T120000
DTEND;TZID=UTC:20260717T130000
DTSTAMP:20260421T143240
CREATED:20260228T234302Z
LAST-MODIFIED:20260301T154518Z
UID:54075-1783944000-1784293200@discoverymuseum.net
SUMMARY:Add A Lunch Hour
DESCRIPTION:1 hour lunch and recess period between camps. \nThis is an Add on to camp registrations and cannot be purchased solo. \nCampers must provide their own lunch. \nWe are a nut free establishment!
URL:https://discoverymuseum.net/event/add-a-lunch-hour-3/
CATEGORIES:Summer Camps for PreK(4yrs)-K
ATTACH;FMTTYPE=image/png:https://discoverymuseum.net/wp-content/uploads/2026/02/PreK-Kinder-Camp-Website-Graphics.png
END:VEVENT
BEGIN:VEVENT
DTSTART;TZID=UTC:20260713T130000
DTEND;TZID=UTC:20260717T160000
DTSTAMP:20260421T143240
CREATED:20260228T232400Z
LAST-MODIFIED:20260306T194641Z
UID:54051-1783947600-1784304000@discoverymuseum.net
SUMMARY:Ready Set Grow! Camp\, PreK-Kinder
DESCRIPTION:Little learners will explore nature\, plants\, and growing things! Campers will dig into gardening fun\, create nature crafts\, and discover how plants and animals grow and change.
URL:https://discoverymuseum.net/event/ready-set-grow-camp/
CATEGORIES:Summer Camps for PreK(4yrs)-K
ATTACH;FMTTYPE=image/png:https://discoverymuseum.net/wp-content/uploads/2026/02/Ready-Set-Grow.png
END:VEVENT
END:VCALENDAR