BEGIN:VCALENDAR
VERSION:2.0
PRODID:-//Shenandoah Valley Discovery Museum - ECPv6.15.20//NONSGML v1.0//EN
CALSCALE:GREGORIAN
METHOD:PUBLISH
X-ORIGINAL-URL:https://discoverymuseum.net
X-WR-CALDESC:Events for Shenandoah Valley Discovery Museum
REFRESH-INTERVAL;VALUE=DURATION:PT1H
X-Robots-Tag:noindex
X-PUBLISHED-TTL:PT1H
BEGIN:VTIMEZONE
TZID:UTC
BEGIN:STANDARD
TZOFFSETFROM:+0000
TZOFFSETTO:+0000
TZNAME:UTC
DTSTART:20250101T000000
END:STANDARD
END:VTIMEZONE
BEGIN:VEVENT
DTSTART;TZID=UTC:20260601T090000
DTEND;TZID=UTC:20260810T160000
DTSTAMP:20260423T104423
CREATED:20260301T144714Z
LAST-MODIFIED:20260301T144917Z
UID:54192-1780304400-1786377600@discoverymuseum.net
SUMMARY:All 1st-5th Grade Camps
DESCRIPTION:
URL:https://discoverymuseum.net/event/all-1st-5th-grade-camps/
CATEGORIES:Summer Camps,Summer Camps for Grades 1-5
ATTACH;FMTTYPE=image/png:https://discoverymuseum.net/wp-content/uploads/2026/03/1st-5th-grade-summer-camps.png
END:VEVENT
BEGIN:VEVENT
DTSTART;TZID=UTC:20260622T130000
DTEND;TZID=UTC:20290626T160000
DTSTAMP:20260423T104423
CREATED:20260301T000013Z
LAST-MODIFIED:20260306T200738Z
UID:54102-1782133200-1877184000@discoverymuseum.net
SUMMARY:Insect Investigators Camp\, 1st-3rd Grade
DESCRIPTION:Bugs are amazing! Campers will discover the fascinating world of insects through observation\, hands-on science experiments\, crafts\, and creative challenges while learning about the important role bugs play in nature.
URL:https://discoverymuseum.net/event/insect-investigators-camp/
CATEGORIES:Summer Camps for Grades 1-5
ATTACH;FMTTYPE=image/png:https://discoverymuseum.net/wp-content/uploads/2026/02/Insect-Investigators-Camp.png
END:VEVENT
BEGIN:VEVENT
DTSTART;TZID=UTC:20260720T090000
DTEND;TZID=UTC:20260724T120000
DTSTAMP:20260423T104423
CREATED:20260301T001335Z
LAST-MODIFIED:20260306T200922Z
UID:54123-1784538000-1784894400@discoverymuseum.net
SUMMARY:Discovery Space Center Camp\, 1st-3rd Grade
DESCRIPTION:Blast off into space exploration! Campers will learn about planets\, astronauts\, rockets\, and the mysteries of the universe through exciting experiments\, creative engineering challenges\, and space-themed activities.
URL:https://discoverymuseum.net/event/discovery-space-center/
CATEGORIES:Summer Camps for Grades 1-5
ATTACH;FMTTYPE=image/png:https://discoverymuseum.net/wp-content/uploads/2026/03/Discovery-Space-Center.png
END:VEVENT
BEGIN:VEVENT
DTSTART;TZID=UTC:20260720T120000
DTEND;TZID=UTC:20260724T130000
DTSTAMP:20260423T104423
CREATED:20260301T004119Z
LAST-MODIFIED:20260301T154430Z
UID:54157-1784548800-1784898000@discoverymuseum.net
SUMMARY:Add A Lunch Hour
DESCRIPTION:1 hour lunch and recess period between camps. \nThis is an Add on to camp registrations and cannot be purchased solo. \nCampers must provide their own lunch. \nWe are a nut free establishment!
URL:https://discoverymuseum.net/event/add-a-lunch-hour-12/
CATEGORIES:Summer Camps for Grades 1-5
ATTACH;FMTTYPE=image/png:https://discoverymuseum.net/wp-content/uploads/2026/02/PreK-Kinder-Camp-Website-Graphics.png
END:VEVENT
BEGIN:VEVENT
DTSTART;TZID=UTC:20260720T130000
DTEND;TZID=UTC:20260724T160000
DTSTAMP:20260423T104423
CREATED:20260301T001449Z
LAST-MODIFIED:20260306T200932Z
UID:54126-1784552400-1784908800@discoverymuseum.net
SUMMARY:Science Sidekicks\, 1st-3rd Grade
DESCRIPTION:Young scientists will explore the natural world through exciting animal science investigations. Campers will study animal adaptations\, habitats\, and ecosystems through hands-on experiments\, games\, and discovery activities.
URL:https://discoverymuseum.net/event/science-sidekicks/
CATEGORIES:Summer Camps for Grades 1-5
ATTACH;FMTTYPE=image/png:https://discoverymuseum.net/wp-content/uploads/2026/03/Science-Sidekicks-Camp.png
END:VEVENT
BEGIN:VEVENT
DTSTART;TZID=UTC:20260720T130000
DTEND;TZID=UTC:20260724T160000
DTSTAMP:20260423T104423
CREATED:20260301T011326Z
LAST-MODIFIED:20260306T202316Z
UID:54185-1784552400-1784908800@discoverymuseum.net
SUMMARY:The Pawn Project Chess Camp\, 3rd-5th Grade
DESCRIPTION:Sharpen your mind and master the game of strategy! In this chess-focused camp\, campers will learn new techniques\, practice tactics\, and develop problem-solving skills through fun challenges and friendly matches. Along the way\, campers will also create chess-themed projects\, puzzles\, and strategy games that strengthen critical thinking. \nBrought to you by: The Pawn Project\, a K–12 initiative of the 501(c)(3) Shenandoah Valley Chess Club\, is dedicated to teaching and promoting chess for free to young players in Loudoun County\, VA.
URL:https://discoverymuseum.net/event/the-pawn-project-chess-camp/
CATEGORIES:Summer Camps for Grades 1-5
ATTACH;FMTTYPE=image/png:https://discoverymuseum.net/wp-content/uploads/2026/03/The-Pawn-Project-Chess-Camp.png
END:VEVENT
END:VCALENDAR