BEGIN:VCALENDAR
VERSION:2.0
PRODID:-//Shenandoah Valley Discovery Museum - ECPv6.15.20//NONSGML v1.0//EN
CALSCALE:GREGORIAN
METHOD:PUBLISH
X-WR-CALNAME:Shenandoah Valley Discovery Museum
X-ORIGINAL-URL:https://discoverymuseum.net
X-WR-CALDESC:Events for Shenandoah Valley Discovery Museum
REFRESH-INTERVAL;VALUE=DURATION:PT1H
X-Robots-Tag:noindex
X-PUBLISHED-TTL:PT1H
BEGIN:VTIMEZONE
TZID:UTC
BEGIN:STANDARD
TZOFFSETFROM:+0000
TZOFFSETTO:+0000
TZNAME:UTC
DTSTART:20250101T000000
END:STANDARD
END:VTIMEZONE
BEGIN:VEVENT
DTSTART;TZID=UTC:20260601T090000
DTEND;TZID=UTC:20260810T160000
DTSTAMP:20260421T125301
CREATED:20260301T144714Z
LAST-MODIFIED:20260301T144917Z
UID:54192-1780304400-1786377600@discoverymuseum.net
SUMMARY:All 1st-5th Grade Camps
DESCRIPTION:
URL:https://discoverymuseum.net/event/all-1st-5th-grade-camps/
CATEGORIES:Summer Camps,Summer Camps for Grades 1-5
ATTACH;FMTTYPE=image/png:https://discoverymuseum.net/wp-content/uploads/2026/03/1st-5th-grade-summer-camps.png
END:VEVENT
BEGIN:VEVENT
DTSTART;TZID=UTC:20260622T130000
DTEND;TZID=UTC:20290626T160000
DTSTAMP:20260421T125301
CREATED:20260301T000013Z
LAST-MODIFIED:20260306T200738Z
UID:54102-1782133200-1877184000@discoverymuseum.net
SUMMARY:Insect Investigators Camp\, 1st-3rd Grade
DESCRIPTION:Bugs are amazing! Campers will discover the fascinating world of insects through observation\, hands-on science experiments\, crafts\, and creative challenges while learning about the important role bugs play in nature.
URL:https://discoverymuseum.net/event/insect-investigators-camp/
CATEGORIES:Summer Camps for Grades 1-5
ATTACH;FMTTYPE=image/png:https://discoverymuseum.net/wp-content/uploads/2026/02/Insect-Investigators-Camp.png
END:VEVENT
BEGIN:VEVENT
DTSTART;TZID=UTC:20260706T090000
DTEND;TZID=UTC:20260710T120000
DTSTAMP:20260421T125301
CREATED:20260301T000510Z
LAST-MODIFIED:20260306T200816Z
UID:54111-1783328400-1783684800@discoverymuseum.net
SUMMARY:Nature Makers Camp\, 1st-3rd Grade
DESCRIPTION:Nature becomes the art studio in this creative camp! Campers will use natural materials to create sculptures\, crafts\, and imaginative projects while exploring the beauty and science of the outdoors.
URL:https://discoverymuseum.net/event/nature-makers-camp/
CATEGORIES:Summer Camps for Grades 1-5
ATTACH;FMTTYPE=image/png:https://discoverymuseum.net/wp-content/uploads/2026/03/Nature-Makers-Camp.png
END:VEVENT
BEGIN:VEVENT
DTSTART;TZID=UTC:20260706T120000
DTEND;TZID=UTC:20260710T130000
DTSTAMP:20260421T125301
CREATED:20260301T003924Z
LAST-MODIFIED:20260301T154615Z
UID:54153-1783339200-1783688400@discoverymuseum.net
SUMMARY:Add A Lunch Hour
DESCRIPTION:1 hour lunch and recess period between camps. \nThis is an Add on to camp registrations and cannot be purchased solo. \nCampers must provide their own lunch. \nWe are a nut free establishment!
URL:https://discoverymuseum.net/event/add-a-lunch-hour-10/
CATEGORIES:Summer Camps for Grades 1-5
ATTACH;FMTTYPE=image/png:https://discoverymuseum.net/wp-content/uploads/2026/02/PreK-Kinder-Camp-Website-Graphics.png
END:VEVENT
BEGIN:VEVENT
DTSTART;TZID=UTC:20260706T130000
DTEND;TZID=UTC:20260710T160000
DTSTAMP:20260421T125301
CREATED:20260301T000619Z
LAST-MODIFIED:20260306T200830Z
UID:54114-1783342800-1783699200@discoverymuseum.net
SUMMARY:Fiber Arts Camp\, 1st-3rd Grade
DESCRIPTION:Campers will explore the colorful world of fiber arts! Through weaving\, simple sewing\, yarn crafts\, and creative textile projects\, kids will learn new skills while creating unique handmade art.
URL:https://discoverymuseum.net/event/fiber-arts-camp/
CATEGORIES:Summer Camps for Grades 1-5
ATTACH;FMTTYPE=image/png:https://discoverymuseum.net/wp-content/uploads/2026/03/Fiber-Arts-Camp.png
END:VEVENT
BEGIN:VEVENT
DTSTART;TZID=UTC:20260706T130000
DTEND;TZID=UTC:20260710T160000
DTSTAMP:20260421T125301
CREATED:20260301T011212Z
LAST-MODIFIED:20260306T202341Z
UID:54182-1783342800-1783699200@discoverymuseum.net
SUMMARY:Fantasy Sports Camp\, 3rd-5th Grade
DESCRIPTION:Sports meet strategy in this unique camp! Campers will learn about teamwork\, game design\, and statistics while creating their own fantasy teams\, designing sports challenges\, and exploring the science behind athletics. Through games\, competitions\, and creative activities\, campers will discover what it takes to build the ultimate team.
URL:https://discoverymuseum.net/event/fantasy-sports-camp/
CATEGORIES:Summer Camps for Grades 1-5
ATTACH;FMTTYPE=image/png:https://discoverymuseum.net/wp-content/uploads/2026/03/Fantasy-Sports-Camp.png
END:VEVENT
END:VCALENDAR