BEGIN:VCALENDAR
VERSION:2.0
PRODID:-//Shenandoah Valley Discovery Museum - ECPv6.15.20//NONSGML v1.0//EN
CALSCALE:GREGORIAN
METHOD:PUBLISH
X-WR-CALNAME:Shenandoah Valley Discovery Museum
X-ORIGINAL-URL:https://discoverymuseum.net
X-WR-CALDESC:Events for Shenandoah Valley Discovery Museum
REFRESH-INTERVAL;VALUE=DURATION:PT1H
X-Robots-Tag:noindex
X-PUBLISHED-TTL:PT1H
BEGIN:VTIMEZONE
TZID:UTC
BEGIN:STANDARD
TZOFFSETFROM:+0000
TZOFFSETTO:+0000
TZNAME:UTC
DTSTART:20250101T000000
END:STANDARD
END:VTIMEZONE
BEGIN:VEVENT
DTSTART;TZID=UTC:20260601T090000
DTEND;TZID=UTC:20260810T160000
DTSTAMP:20260423T090727
CREATED:20260301T144714Z
LAST-MODIFIED:20260301T144917Z
UID:54192-1780304400-1786377600@discoverymuseum.net
SUMMARY:All 1st-5th Grade Camps
DESCRIPTION:
URL:https://discoverymuseum.net/event/all-1st-5th-grade-camps/
CATEGORIES:Summer Camps,Summer Camps for Grades 1-5
ATTACH;FMTTYPE=image/png:https://discoverymuseum.net/wp-content/uploads/2026/03/1st-5th-grade-summer-camps.png
END:VEVENT
BEGIN:VEVENT
DTSTART;TZID=UTC:20260622T130000
DTEND;TZID=UTC:20290626T160000
DTSTAMP:20260423T090727
CREATED:20260301T000013Z
LAST-MODIFIED:20260306T200738Z
UID:54102-1782133200-1877184000@discoverymuseum.net
SUMMARY:Insect Investigators Camp\, 1st-3rd Grade
DESCRIPTION:Bugs are amazing! Campers will discover the fascinating world of insects through observation\, hands-on science experiments\, crafts\, and creative challenges while learning about the important role bugs play in nature.
URL:https://discoverymuseum.net/event/insect-investigators-camp/
CATEGORIES:Summer Camps for Grades 1-5
ATTACH;FMTTYPE=image/png:https://discoverymuseum.net/wp-content/uploads/2026/02/Insect-Investigators-Camp.png
END:VEVENT
BEGIN:VEVENT
DTSTART;TZID=UTC:20260629T090000
DTEND;TZID=UTC:20260703T120000
DTSTAMP:20260423T090727
CREATED:20260301T000151Z
LAST-MODIFIED:20260306T200750Z
UID:54105-1782723600-1783080000@discoverymuseum.net
SUMMARY:Junior Chef Camp\, 1st-3rd Grade
DESCRIPTION:Put on your chef hat! Campers will mix\, measure\, and create delicious no-bake treats while learning about kitchen science and food creativity. Each day includes fun food-themed activities and tasty creations to enjoy.
URL:https://discoverymuseum.net/event/junior-chef-camp/
CATEGORIES:Summer Camps for Grades 1-5
ATTACH;FMTTYPE=image/png:https://discoverymuseum.net/wp-content/uploads/2026/03/Junior-Chef-Camp.png
END:VEVENT
BEGIN:VEVENT
DTSTART;TZID=UTC:20260629T120000
DTEND;TZID=UTC:20260703T130000
DTSTAMP:20260423T090727
CREATED:20260301T003821Z
LAST-MODIFIED:20260301T154659Z
UID:54151-1782734400-1783083600@discoverymuseum.net
SUMMARY:Add A Lunch Hour
DESCRIPTION:1 hour lunch and recess period between camps. \nThis is an Add on to camp registrations and cannot be purchased solo. \nCampers must provide their own lunch. \nWe are a nut free establishment!
URL:https://discoverymuseum.net/event/add-a-lunch-hour-9/
CATEGORIES:Summer Camps for Grades 1-5
ATTACH;FMTTYPE=image/png:https://discoverymuseum.net/wp-content/uploads/2026/02/PreK-Kinder-Camp-Website-Graphics.png
END:VEVENT
BEGIN:VEVENT
DTSTART;TZID=UTC:20260629T120000
DTEND;TZID=UTC:20260703T160000
DTSTAMP:20260423T090727
CREATED:20260301T000313Z
LAST-MODIFIED:20260415T203106Z
UID:54108-1782734400-1783094400@discoverymuseum.net
SUMMARY:Messy Makers Camp\, 1st-3rd Grade
DESCRIPTION:Get ready to get messy in the best way! Campers will explore art through paint\, slime\, clay\, and other hands-on materials while experimenting with colors\, textures\, and creative expression.
URL:https://discoverymuseum.net/event/messy-makers-camp/
CATEGORIES:Summer Camps for Grades 1-5
ATTACH;FMTTYPE=image/png:https://discoverymuseum.net/wp-content/uploads/2026/03/10.-Messy-Makers-Camp.png
END:VEVENT
BEGIN:VEVENT
DTSTART;TZID=UTC:20260629T130000
DTEND;TZID=UTC:20260703T160000
DTSTAMP:20260423T090727
CREATED:20260323T143755Z
LAST-MODIFIED:20260323T143755Z
UID:54328-1782738000-1783094400@discoverymuseum.net
SUMMARY:Art through the Ages
DESCRIPTION:From Cave Drawings to Modern Art\, travel through time as you experiment with different art styles & materials
URL:https://discoverymuseum.net/event/art-through-the-ages/
CATEGORIES:Summer Camps for Grades 1-5
END:VEVENT
BEGIN:VEVENT
DTSTART;TZID=UTC:20260703T090000
DTEND;TZID=UTC:20260703T160000
DTSTAMP:20260423T090727
CREATED:20260410T181736Z
LAST-MODIFIED:20260413T174800Z
UID:54382-1783069200-1783094400@discoverymuseum.net
SUMMARY:30th Birthday Bash All-Day Camp
DESCRIPTION:Help us celebrate 30 amazing years of creativity\, discovery\, and fun! This special camp is packed with exciting activities inspired by some of the museum’s favorite exhibits and experiences. Campers will enjoy games\, hands-on STEAM challenges\, crafts and party-themed surprises thorughout the day. It is a birthday celebration filled with creativity\, laughter and unforgettable memories.
URL:https://discoverymuseum.net/event/54382/
CATEGORIES:Summer Camps,Summer Camps for All Grades,Summer Camps for Grades 1-5,Summer Camps for PreK(4yrs)-K
ATTACH;FMTTYPE=image/png:https://discoverymuseum.net/wp-content/uploads/2026/04/30th-Birthday-Bash-Camp.png
END:VEVENT
END:VCALENDAR