BEGIN:VCALENDAR
VERSION:2.0
PRODID:-//Shenandoah Valley Discovery Museum - ECPv6.15.20//NONSGML v1.0//EN
CALSCALE:GREGORIAN
METHOD:PUBLISH
X-ORIGINAL-URL:https://discoverymuseum.net
X-WR-CALDESC:Events for Shenandoah Valley Discovery Museum
REFRESH-INTERVAL;VALUE=DURATION:PT1H
X-Robots-Tag:noindex
X-PUBLISHED-TTL:PT1H
BEGIN:VTIMEZONE
TZID:UTC
BEGIN:STANDARD
TZOFFSETFROM:+0000
TZOFFSETTO:+0000
TZNAME:UTC
DTSTART:20250101T000000
END:STANDARD
END:VTIMEZONE
BEGIN:VEVENT
DTSTART;TZID=UTC:20260717T090000
DTEND;TZID=UTC:20260717T160000
DTSTAMP:20260423T120841
CREATED:20260410T175020Z
LAST-MODIFIED:20260410T175020Z
UID:54369-1784278800-1784304000@discoverymuseum.net
SUMMARY:All-Day Mad Scientist Day Camp
DESCRIPTION:Put on your lab cat and get ready for a full day of wild science experiments! Campers will explore chemistry\, physics\, and creative problem-solving through hands-on experiments\, bubbling reactions\, and exciting demonstrations. From mixing colorful potions to launching experiments and creating crazy contraptions\, this camp is perfect for curious minds who love to explore the science behind the fun.
URL:https://discoverymuseum.net/event/all-day-mad-scientist-day-camp/
CATEGORIES:Summer Camps,Summer Camps for All Grades,Summer Camps for Grades 1-5,Summer Camps for PreK(4yrs)-K
ATTACH;FMTTYPE=image/png:https://discoverymuseum.net/wp-content/uploads/2026/04/Mad-Scientist-Day-Camp-2-2.png
END:VEVENT
END:VCALENDAR