BEGIN:VCALENDAR
VERSION:2.0
PRODID:-//Shenandoah Valley Discovery Museum - ECPv6.15.20//NONSGML v1.0//EN
CALSCALE:GREGORIAN
METHOD:PUBLISH
X-WR-CALNAME:Shenandoah Valley Discovery Museum
X-ORIGINAL-URL:https://discoverymuseum.net
X-WR-CALDESC:Events for Shenandoah Valley Discovery Museum
REFRESH-INTERVAL;VALUE=DURATION:PT1H
X-Robots-Tag:noindex
X-PUBLISHED-TTL:PT1H
BEGIN:VTIMEZONE
TZID:UTC
BEGIN:STANDARD
TZOFFSETFROM:+0000
TZOFFSETTO:+0000
TZNAME:UTC
DTSTART:20250101T000000
END:STANDARD
END:VTIMEZONE
BEGIN:VEVENT
DTSTART;TZID=UTC:20260626T090000
DTEND;TZID=UTC:20260626T160000
DTSTAMP:20260423T090231
CREATED:20260410T175917Z
LAST-MODIFIED:20260410T180029Z
UID:54375-1782464400-1782489600@discoverymuseum.net
SUMMARY:Brick Builders All-Day Camp
DESCRIPTION:Calling all builders! In this full-day building adventure\, campers will design\, construct\, and engineer incredible creations using bricks and their imagination. Throughout the day\, campers will tackle fun building challenges\, experiment with engineering concepts\, and work together to create. Whether building solo or collaborating with teammates\, campers will discover just how far their creativity can go.
URL:https://discoverymuseum.net/event/54375/
CATEGORIES:Summer Camps,Summer Camps for All Grades,Summer Camps for Grades 1-5,Summer Camps for PreK(4yrs)-K
ATTACH;FMTTYPE=image/png:https://discoverymuseum.net/wp-content/uploads/2026/04/Brick-Builders-Day-Camp-1.png
END:VEVENT
END:VCALENDAR