BEGIN:VCALENDAR
VERSION:2.0
PRODID:-//Shenandoah Valley Discovery Museum - ECPv6.15.20//NONSGML v1.0//EN
CALSCALE:GREGORIAN
METHOD:PUBLISH
X-ORIGINAL-URL:https://discoverymuseum.net
X-WR-CALDESC:Events for Shenandoah Valley Discovery Museum
REFRESH-INTERVAL;VALUE=DURATION:PT1H
X-Robots-Tag:noindex
X-PUBLISHED-TTL:PT1H
BEGIN:VTIMEZONE
TZID:UTC
BEGIN:STANDARD
TZOFFSETFROM:+0000
TZOFFSETTO:+0000
TZNAME:UTC
DTSTART:20250101T000000
END:STANDARD
END:VTIMEZONE
BEGIN:VEVENT
DTSTART;TZID=UTC:20260601T090000
DTEND;TZID=UTC:20260810T160000
DTSTAMP:20260421T125302
CREATED:20260301T144714Z
LAST-MODIFIED:20260301T144917Z
UID:54192-1780304400-1786377600@discoverymuseum.net
SUMMARY:All 1st-5th Grade Camps
DESCRIPTION:
URL:https://discoverymuseum.net/event/all-1st-5th-grade-camps/
CATEGORIES:Summer Camps,Summer Camps for Grades 1-5
ATTACH;FMTTYPE=image/png:https://discoverymuseum.net/wp-content/uploads/2026/03/1st-5th-grade-summer-camps.png
END:VEVENT
BEGIN:VEVENT
DTSTART;TZID=UTC:20260601T090000
DTEND;TZID=UTC:20260810T160000
DTSTAMP:20260421T125302
CREATED:20260301T145923Z
LAST-MODIFIED:20260301T145923Z
UID:54196-1780304400-1786377600@discoverymuseum.net
SUMMARY:All PreK - Kinder Camps
DESCRIPTION:
URL:https://discoverymuseum.net/event/all-prek-kinder-camps/
CATEGORIES:Summer Camps for PreK(4yrs)-K
ATTACH;FMTTYPE=image/png:https://discoverymuseum.net/wp-content/uploads/2026/03/PreK-Kinder-Summer-Camps.png
END:VEVENT
BEGIN:VEVENT
DTSTART;TZID=UTC:20260615T090000
DTEND;TZID=UTC:20260618T120000
DTSTAMP:20260421T125302
CREATED:20260228T230425Z
LAST-MODIFIED:20260306T194457Z
UID:54030-1781514000-1781784000@discoverymuseum.net
SUMMARY:Oh! The Things We Will Do!\, PreK-Kinder
DESCRIPTION:Get ready for silly fun and imaginative adventures! Inspired by whimsical stories and playful rhymes\, campers will create colorful crafts\, explore creative building challenges\, and celebrate the joy of curiosity and creativity in this 4-day camp.
URL:https://discoverymuseum.net/event/oh-the-things-we-will-do/
CATEGORIES:Summer Camps for PreK(4yrs)-K
ATTACH;FMTTYPE=image/png:https://discoverymuseum.net/wp-content/uploads/2026/02/Oh-The-Things-We-Will-Do.png
END:VEVENT
BEGIN:VEVENT
DTSTART;TZID=UTC:20260615T090000
DTEND;TZID=UTC:20260618T120000
DTSTAMP:20260421T125302
CREATED:20260228T235548Z
LAST-MODIFIED:20260306T200649Z
UID:54093-1781514000-1781784000@discoverymuseum.net
SUMMARY:Nature Discovery Camp\, 1st-3rd Grade
DESCRIPTION:Get ready to explore the wonders of nature! Campers will investigate plants\, animals\, and ecosystems while creating nature crafts\, conducting simple experiments\, and discovering the amazing science all around us in this 4-day camp
URL:https://discoverymuseum.net/event/nature-discovery-camp/
CATEGORIES:Summer Camps for Grades 1-5
ATTACH;FMTTYPE=image/png:https://discoverymuseum.net/wp-content/uploads/2026/02/Nature-Discovery-Camp.png
END:VEVENT
BEGIN:VEVENT
DTSTART;TZID=UTC:20260615T120000
DTEND;TZID=UTC:20260618T130000
DTSTAMP:20260421T125302
CREATED:20260228T233944Z
LAST-MODIFIED:20260301T154820Z
UID:54073-1781524800-1781787600@discoverymuseum.net
SUMMARY:Add A Lunch Hour
DESCRIPTION:1 hour lunch and recess period between camps. \nThis is an Add on to camp registrations and cannot be purchased solo. \nCampers must provide their own lunch. \nWe are a nut free establishment!
URL:https://discoverymuseum.net/event/add-a-lunch-hour-2/
CATEGORIES:Summer Camps for Grades 1-5,Summer Camps for PreK(4yrs)-K
ATTACH;FMTTYPE=image/png:https://discoverymuseum.net/wp-content/uploads/2026/02/PreK-Kinder-Camp-Website-Graphics.png
END:VEVENT
BEGIN:VEVENT
DTSTART;TZID=UTC:20260615T130000
DTEND;TZID=UTC:20260618T160000
DTSTAMP:20260421T125302
CREATED:20260228T230903Z
LAST-MODIFIED:20260306T194527Z
UID:54037-1781528400-1781798400@discoverymuseum.net
SUMMARY:So\, You Want to Be A Zookeeper?\, PreK-Kinder
DESCRIPTION:Calling all animal lovers! In this camp\, kids will discover what it takes to care for animals at a zoo. Campers will learn about habitats\, create enrichment toys\, build animal homes\, and explore the fascinating world of wildlife through hands-on activities and creative play in this 4-day camp.
URL:https://discoverymuseum.net/event/so-you-want-to-be-a-zookeeper/
CATEGORIES:Summer Camps for PreK(4yrs)-K
ATTACH;FMTTYPE=image/png:https://discoverymuseum.net/wp-content/uploads/2026/02/So-You-Want-to-Be-A-Zookeeper.png
END:VEVENT
BEGIN:VEVENT
DTSTART;TZID=UTC:20260615T130000
DTEND;TZID=UTC:20260618T160000
DTSTAMP:20260421T125302
CREATED:20260228T235721Z
LAST-MODIFIED:20260306T200714Z
UID:54096-1781528400-1781798400@discoverymuseum.net
SUMMARY:Jurassic Explorers Camp\, 1st-3rd Grade
DESCRIPTION:Travel back to the age of dinosaurs! Campers will dig for fossils\, learn about prehistoric creatures\, build dinosaur habitats\, and discover what life was like millions of years ago through hands-on activities and exciting exploration in this 4-day camp
URL:https://discoverymuseum.net/event/jurassic-explorers-camp/
CATEGORIES:Summer Camps for Grades 1-5
ATTACH;FMTTYPE=image/png:https://discoverymuseum.net/wp-content/uploads/2026/02/Jurassic-Explorers-Camp.png
END:VEVENT
END:VCALENDAR