BEGIN:VCALENDAR
VERSION:2.0
PRODID:-//Shenandoah Valley Discovery Museum - ECPv6.15.20//NONSGML v1.0//EN
CALSCALE:GREGORIAN
METHOD:PUBLISH
X-WR-CALNAME:Shenandoah Valley Discovery Museum
X-ORIGINAL-URL:https://discoverymuseum.net
X-WR-CALDESC:Events for Shenandoah Valley Discovery Museum
REFRESH-INTERVAL;VALUE=DURATION:PT1H
X-Robots-Tag:noindex
X-PUBLISHED-TTL:PT1H
BEGIN:VTIMEZONE
TZID:UTC
BEGIN:STANDARD
TZOFFSETFROM:+0000
TZOFFSETTO:+0000
TZNAME:UTC
DTSTART:20250101T000000
END:STANDARD
END:VTIMEZONE
BEGIN:VEVENT
DTSTART;TZID=UTC:20260601T090000
DTEND;TZID=UTC:20260605T120000
DTSTAMP:20260423T090031
CREATED:20260228T225334Z
LAST-MODIFIED:20260404T140707Z
UID:54021-1780304400-1780660800@discoverymuseum.net
SUMMARY:Storytime Art Camp\, PreK-Kinder
DESCRIPTION:Stories come to life in this creative camp where imagination leads the way! Each day\, campers will listen to a fun story and then create an art project or tasty snack inspired by the book. From painting and crafting to hands-on storytelling fun\, little artists will explore colors\, textures\, and creativity while bringing their favorite stories to life.
URL:https://discoverymuseum.net/event/storytime-art-camp-2/
CATEGORIES:Summer Camps for PreK(4yrs)-K
ATTACH;FMTTYPE=image/png:https://discoverymuseum.net/wp-content/uploads/2026/02/Storytime-Art-Camp.png
END:VEVENT
BEGIN:VEVENT
DTSTART;TZID=UTC:20260601T090000
DTEND;TZID=UTC:20260605T120000
DTSTAMP:20260423T090031
CREATED:20260228T234940Z
LAST-MODIFIED:20260306T200445Z
UID:54081-1780304400-1780660800@discoverymuseum.net
SUMMARY:Hero Training Academy\, 1st-3rd Grade
DESCRIPTION:Calling all heroes! Campers will train like superheroes through exciting challenges that build strength\, teamwork\, creativity\, and problem-solving skills. From designing their own superhero identity to completing obstacle missions and saving the day through STEAM challenges\, every camper will discover their inner hero.
URL:https://discoverymuseum.net/event/hero-training-academy/
CATEGORIES:Summer Camps for Grades 1-5
ATTACH;FMTTYPE=image/png:https://discoverymuseum.net/wp-content/uploads/2026/02/Superhero-Training-Academy.png
END:VEVENT
BEGIN:VEVENT
DTSTART;TZID=UTC:20260601T090000
DTEND;TZID=UTC:20260810T160000
DTSTAMP:20260423T090031
CREATED:20260301T144714Z
LAST-MODIFIED:20260301T144917Z
UID:54192-1780304400-1786377600@discoverymuseum.net
SUMMARY:All 1st-5th Grade Camps
DESCRIPTION:
URL:https://discoverymuseum.net/event/all-1st-5th-grade-camps/
CATEGORIES:Summer Camps,Summer Camps for Grades 1-5
ATTACH;FMTTYPE=image/png:https://discoverymuseum.net/wp-content/uploads/2026/03/1st-5th-grade-summer-camps.png
END:VEVENT
BEGIN:VEVENT
DTSTART;TZID=UTC:20260601T090000
DTEND;TZID=UTC:20260810T160000
DTSTAMP:20260423T090031
CREATED:20260301T145923Z
LAST-MODIFIED:20260301T145923Z
UID:54196-1780304400-1786377600@discoverymuseum.net
SUMMARY:All PreK - Kinder Camps
DESCRIPTION:
URL:https://discoverymuseum.net/event/all-prek-kinder-camps/
CATEGORIES:Summer Camps for PreK(4yrs)-K
ATTACH;FMTTYPE=image/png:https://discoverymuseum.net/wp-content/uploads/2026/03/PreK-Kinder-Summer-Camps.png
END:VEVENT
BEGIN:VEVENT
DTSTART;TZID=UTC:20260601T120000
DTEND;TZID=UTC:20260605T130000
DTSTAMP:20260423T090031
CREATED:20260228T233714Z
LAST-MODIFIED:20260404T140527Z
UID:54069-1780315200-1780664400@discoverymuseum.net
SUMMARY:Add A Lunch Hour
DESCRIPTION:1 hour lunch and recess period between camps. \nThis is an Add on to camp registrations and cannot be purchased solo. \nCampers must provide their own lunch. \nWe are a nut free establishment!
URL:https://discoverymuseum.net/event/add-a-lunch-hour/
CATEGORIES:Summer Camps for PreK(4yrs)-K
ATTACH;FMTTYPE=image/png:https://discoverymuseum.net/wp-content/uploads/2026/02/PreK-Kinder-Camp-Website-Graphics.png
END:VEVENT
BEGIN:VEVENT
DTSTART;TZID=UTC:20260601T120000
DTEND;TZID=UTC:20260605T160000
DTSTAMP:20260423T090031
CREATED:20260301T003421Z
LAST-MODIFIED:20260301T155045Z
UID:54145-1780315200-1780675200@discoverymuseum.net
SUMMARY:Add A Lunch Hour
DESCRIPTION:1 hour lunch and recess period between camps. \nThis is an Add on to camp registrations and cannot be purchased solo. \nCampers must provide their own lunch. \nWe are a nut free establishment!
URL:https://discoverymuseum.net/event/add-a-lunch-hour-6/
CATEGORIES:Summer Camps for Grades 1-5
ATTACH;FMTTYPE=image/png:https://discoverymuseum.net/wp-content/uploads/2026/02/PreK-Kinder-Camp-Website-Graphics.png
END:VEVENT
BEGIN:VEVENT
DTSTART;TZID=UTC:20260601T130000
DTEND;TZID=UTC:20260605T160000
DTSTAMP:20260423T090031
CREATED:20260228T225626Z
LAST-MODIFIED:20260404T140510Z
UID:54024-1780318800-1780675200@discoverymuseum.net
SUMMARY:Storybook STEAM Camp
DESCRIPTION:What happens when stories meet science? In this camp\, classic storybooks inspire exciting STEAM challenges! Campers will build\, test\, and experiment as they solve problems from their favorite tales through hands-on engineering\, creative building\, and playful discovery.
URL:https://discoverymuseum.net/event/storybook-steam-camp/
CATEGORIES:Summer Camps for PreK(4yrs)-K
ATTACH;FMTTYPE=image/png:https://discoverymuseum.net/wp-content/uploads/2026/02/Storybook-STEAM-Camp.png
END:VEVENT
BEGIN:VEVENT
DTSTART;TZID=UTC:20260601T130000
DTEND;TZID=UTC:20260605T160000
DTSTAMP:20260423T090031
CREATED:20260228T235115Z
LAST-MODIFIED:20260415T203204Z
UID:54084-1780318800-1780675200@discoverymuseum.net
SUMMARY:Fairytale STEAM\, 1st-3rd Grade
DESCRIPTION:Save a Princess\, put Humpty Dumpty Back together\, build homes for the 3 Little Pigs and more!
URL:https://discoverymuseum.net/event/fairytale/
CATEGORIES:Summer Camps for Grades 1-5
ATTACH;FMTTYPE=image/png:https://discoverymuseum.net/wp-content/uploads/2026/02/2.-Fairytale-STEAM-Camp.png
END:VEVENT
BEGIN:VEVENT
DTSTART;TZID=UTC:20260605T090000
DTEND;TZID=UTC:20260605T090000
DTSTAMP:20260423T090031
CREATED:20260410T172826Z
LAST-MODIFIED:20260410T174645Z
UID:54366-1780650000-1780650000@discoverymuseum.net
SUMMARY:All-Day Mad Scientist Camp
DESCRIPTION:Put on your lab cat and get ready for a full day of wild science experiments! Campers will explore chemistry\, physics\, and creative problem-solving through hands-on experiments\, bubbling reactions\, and exciting demonstrations. From mixing colorful potions to launching experiments and creating crazy contraptions\, this camp is perfect for curious minds who love to explore the science behind the fun.
URL:https://discoverymuseum.net/event/all-day-mad-scientist-camp/
CATEGORIES:Summer Camps,Summer Camps for Grades 1-5,Summer Camps for PreK(4yrs)-K
ATTACH;FMTTYPE=image/png:https://discoverymuseum.net/wp-content/uploads/2026/04/Mad-Scientist-Day-Camp-1.png
END:VEVENT
END:VCALENDAR